BEGIN:VCALENDAR
VERSION:2.0
PRODID:-//eventon.com NONSGML v1.0//EN
BEGIN:VEVENT
UID:69eb14359a83c
DTSTAMP:20260424T085653
DTSTART:20260708T070000Z
DTEND:20260708T150000Z
LOCATION:Hyères Port du Gapeau 
SUMMARY:Croisière privatisée en Catamaran - 1 journée  –  995 €
DESCRIPTION: Venez naviguer et profiter des plaisirs de la voile et du catamaran lors d'une sortie privatisée à bord d'un 38 ou 40 pieds. Vous êtes en famille ou entre amis et souhaitez organiser une belle journée en mer. Vous désirez naviguer\,  que vous soyez déjà amateur de voile ou novice\, [..]
END:VEVENT
END:VCALENDAR