BEGIN:VCALENDAR
VERSION:2.0
PRODID:-//eventon.com NONSGML v1.0//EN
BEGIN:VEVENT
UID:69e899a2508fe
DTSTAMP:20260422T114922
DTSTART:20251003T170000Z
DTEND:20251012T130000Z
LOCATION:Hyères Port du Gapeau 
SUMMARY:Niveau 5 Grand Large – 1 595 € + pack service 395 €
DESCRIPTION: Le niveau grand large Le niveau grand large vous amène à être totalement autonome\,  en devenant responsable d’un voilier et d’un équipage. Un chef de bord c’est un état d’esprit\,  de bons réflexes et de l’anticipation ! Votre stage débute le vendredi à partir de 19h00 : accueil par votre[..]
END:VEVENT
END:VCALENDAR