BEGIN:VCALENDAR
VERSION:2.0
PRODID:-//eventon.com NONSGML v1.0//EN
BEGIN:VEVENT
UID:69e4ce9845f9f
DTSTAMP:20260419T144616
DTSTART:20240628T170000Z
DTEND:20240705T130000Z
LOCATION:Hyères Port du Gapeau 
SUMMARY:Niveau 3 – 1 395 € + pack service 395 €
DESCRIPTION: Le niveau 3\,  semi-hauturier vous aide à envisager sérieusement la navigation en autonomie\,  un bilan individuel sera effectué par votre formateur FFV en fin de stage afin de valider votre niveau et de confirmer votre capacité à avoir votre première expérience de location sans skipper. Votre stage débute le vendredi[..]
END:VEVENT
END:VCALENDAR