BEGIN:VCALENDAR
VERSION:2.0
PRODID:-//eventon.com NONSGML v1.0//EN
BEGIN:VEVENT
UID:69ed59eee850c
DTSTAMP:20260426T021854
DTSTART:20230428T170000Z
DTEND:20230430T140000Z
LOCATION:Hyères Port du Gapeau 
SUMMARY:WE Manoeuvre de port - 695 € - Tout compris (hors gasoil)
DESCRIPTION: Le stage Manoeuvre moteur a pour objectif de vous donnez les clefs pour réussir vos différentes manœuvres au port. Vous allez apprendre les connaissances techniques moteur et commande\,  à amarrer correctement un catamaran\,  les techniques de mouillage\,  à gérer votre vitesse et l'inertie du bateau… Votre stage débute le vendredi[..]
END:VEVENT
END:VCALENDAR